BEGIN:VCALENDAR
VERSION:2.0
PRODID:-//Library Market//iCal Export//EN
BEGIN:VEVENT
SUMMARY:Tot&#039;s Night Out (18 months-PreK with Caregiver)
UID:26588
DTSTAMP:20260419T172800Z
DTSTART:20260407T213000Z
DTEND:20260407T221500Z
LOCATION:Comsewogue Public Library, 170 Terryville Rd, Port Jefferson Stat
 ion, NY 11776, United States
ROOM: Community Room B
DESCRIPTION:Everyone needs a night out once in a while, even kids!  Join 
 A Time for Kids, for an enjoyable evening of activities including stories,
  singing, learning through play and making a craft.
URL:https://comsewogue.librarycalendar.com/event/tots-night-out-18-months-
 prek-caregiver-26588
END:VEVENT
END:VCALENDAR
